Workbook

Sheet Sheet1
A1: District | B1: Per pupil | C1: 3% Raise | D1: DSA | E1: General Fund Local Revenue | F1: General Fund State Revenue | G1: General Fund Federal Revenue | H1: Total General Fund Revenue | I1: Total Local Revenue | J1: Total State Revenue | K1: Total Federal Revenue | L1: Include Local State Federal | M1: Total Revenue
A2: Carson City | B2: ='Revenue Carson'!L1 -> 7184 | C2: No | E2: ='Revenue Carson'!H13 -> 0.052309535 | F2: ='Revenue Carson'!H18 -> -0.063982297 | G2: ='Revenue Carson'!H23 -> -0.0068519566 | H2: ='Revenue Carson'!H34 -> -0.03189539 | I2: ='Revenue Carson'!H126 -> 0.052214994 | J2: ='Revenue Carson'!H127 -> -0.040195758 | K2: ='Revenue Carson'!H128 -> 0.039723539 | L2: ='Revenue Carson'!H131 -> 0.010329367 | M2: ='Revenue Carson'!H129 -> -0.042049411
A3: Churchill | B3: 7006 | C3: No | E3: ='Revenue Churchill'!H15 -> 0.049042749 | F3: ='Revenue Churchill'!H19 -> -0.067276617 | G3: ='Revenue Churchill'!H25 -> -0.10285293 | H3: ='Revenue Churchill'!H36 -> -0.069908807 | I3: ='Revenue Churchill'!H95 -> 0.052899774 | J3: ='Revenue Churchill'!H96 -> -0.078658374 | K3: ='Revenue Churchill'!H97 -> -0.2573023 | L3: ='Revenue Churchill'!H100 -> -0.052325808 | M3: ='Revenue Churchill'!H98 -> -0.10032241
A4: Clark | B4: 5863 | C4: Yes | E4: ='Clark Revenue'!H17 -> 0.049597772 | F4: ='Clark Revenue'!H21 -> -0.061332001 | G4: ='Clark Revenue'!H27 -> -0.21728355 | H4: ='Clark Revenue'!H39 -> 0.032650793 | I4: ='Clark Revenue'!H96 -> 0.091265263 | J4: ='Clark Revenue'!H97 -> 0.15577152 | K4: ='Clark Revenue'!H98 -> -0.069130063 | L4: ='Clark Revenue'!H100 -> 0.096739091 | M4: ='Clark Revenue'!H99 -> 0.038638722
A5: Douglas | B5: 6096 | C5: No | E5: ='Douglas Revenues'!H10 -> 0.073898437 | F5: ='Douglas Revenues'!H14 -> -0.18240589 | G5: ='Douglas Revenues'!H18 -> -1 | H5: ='Douglas Revenues'!H29 -> -0.011768674 | I5: ='Douglas Revenues'!H83 -> 0.051147867 | J5: ='Douglas Revenues'!H84 -> -0.11256525 | K5: ='Douglas Revenues'!H85 -> 0.22012293 | L5: ='Douglas Revenues'!H87 -> 0.011431004 | M5: ='Douglas Revenues'!H86 -> -0.096262298
A6: Elko | B6: 7682 | C6: No | E6: ='Elko Revenue'!H9 -> -0.030400429 | F6: ='Elko Revenue'!H13 -> -0.19167291 | G6: ='Elko Revenue'!H17 -> -0.40722849 | H6: ='Elko Revenue'!H28 -> -0.069398425 | I6: ='Elko Revenue'!H109 -> -0.063249981 | J6: ='Elko Revenue'!H110 -> -0.14326135 | K6: ='Elko Revenue'!H111 -> -0.013141456 | L6: ='Elko Revenue'!H114 -> -0.095866297 | M6: ='Elko Revenue'!H112 -> -0.15910332
A7: Esmeralda | B7: 21365 | C7: Yes | E7: ='Esmeralda Revenue'!H7 -> 0.088062024 | F7: ='Esmeralda Revenue'!H11 -> -0.053416756 | G7: ='Esmeralda Revenue'!H16 -> 0.04 | H7: ='Esmeralda Revenue'!H22 -> -0.12503421 | I7: ='Esmeralda Revenue'!H58 -> 0.087985347 | J7: ='Esmeralda Revenue'!H59 -> -0.044815321 | K7: ='Esmeralda Revenue'!H60 -> 0.029936581 | L7: ='Esmeralda Revenue'!H63 -> 0.0027430278 | M7: ='Esmeralda Revenue'!H61 -> -0.21016705
A8: Eureka | B8: 11768 | C8: Yes
A9: Humboldt | B9: 7055 | C9: No | E9: ='Humboldt Revenue'!H11 -> 0.0069455364 | F9: ='Humboldt Revenue'!H15 -> -0.11539144 | G9: ='Humboldt Revenue'!H24 -> -0.25879429 | H9: ='Humboldt Revenue'!H26 -> -0.07254694 | I9: ='Humboldt Revenue'!H145 -> 0.0010769686 | J9: ='Humboldt Revenue'!H146 -> -0.079255135 | K9: ='Humboldt Revenue'!H147 -> -0.12598826 | L9: ='Humboldt Revenue'!H149 -> -0.042366292 | M9: ='Humboldt Revenue'!H148 -> -0.066539146
A10: Lander | B10: 4904 | C10: Yes | E10: ='Lander Revenue'!H15 -> 0.013141441 | F10: ='Lander Revenue'!H19 -> -1 | G10: ='Lander Revenue'!H25 -> -0.71782718 | H10: ='Lander Revenue'!H36 -> 0.050878595 | I10: ='Lander Revenue'!H126 -> 0.020193827 | J10: ='Lander Revenue'!H127 -> -0.44521777 | K10: ='Lander Revenue'!H128 -> -0.81990377 | L10: ='Lander Revenue'!H131 -> -0.053479877 | M10: ='Lander Revenue'!H129 -> 0.033395786
A11: Lincoln | B11: 10970 | C11: Yes | E11: ='Revenue Lincoln'!H9 -> 0.036726746 | F11: ='Revenue Lincoln'!H14 -> -0.047656397 | G11: ='Revenue Lincoln'!H18 -> 0.016655563 | H11: ='Revenue Lincoln'!H28 -> -0.054144827 | I11: ='Revenue Lincoln'!H92 -> 0.030475754 | J11: ='Revenue Lincoln'!H93 -> -0.038354383 | K11: ='Revenue Lincoln'!H94 -> 0.016655563 | L11: ='Revenue Lincoln'!H96 -> -0.020748801 | M11: ='Revenue Lincoln'!H95 -> -0.055811697
A12: Lyon | B12: 7671 | E12: ='Lyon Revenue'!H11 -> 0.02877055 | F12: ='Lyon Revenue'!H15 -> 0.027304201 | G12: ='Lyon Revenue'!H20 -> -0.47722032 | H12: ='Lyon Revenue'!H26 -> 0.0050497685 | I12: ='Lyon Revenue'!H92 -> 0.054198412 | J12: ='Lyon Revenue'!H93 -> -0.026124034 | K12: ='Lyon Revenue'!H94 -> -0.61106002 | L12: ='Lyon Revenue'!H96 -> -0.064891172 | M12: ='Lyon Revenue'!H95 -> 0.065960603
A13: Mineral | B13: 9929
A14: Nye | B14: 7850 | C14: No | E14: ='Nye Revenue'!H7 -> 0.11266335 | F14: ='Nye Revenue'!H11 -> -0.10928859 | G14: ='Nye Revenue'!H15 -> 0.06370509 | H14: ='Nye Revenue'!H21 -> -0.093677077 | I14: ='Nye Revenue'!H87 -> 0.10644859 | J14: ='Nye Revenue'!H88 -> -0.19175524 | K14: ='Nye Revenue'!H89 -> -0.70535971 | L14: ='Nye Revenue'!H91 -> -0.16753619 | M14: ='Nye Revenue'!H90 -> -0.24357093
A15: Pershing | B15: 9271 | E15: ='Pershing Revenue'!H9 -> 0.01158354 | F15: ='Pershing Revenue'!H13 -> 0.032695125 | G15: ='Pershing Revenue'!H17 -> -0.23275921 | H15: ='Pershing Revenue'!H23 -> -0.013821509 | I15: ='Pershing Revenue'!H84 -> 0.012244737 | J15: ='Pershing Revenue'!H85 -> -0.1370335 | K15: ='Pershing Revenue'!H86 -> -0.74986806 | L15: ='Pershing Revenue'!H88 -> -0.16299664 | M15: ='Pershing Revenue'!H87 -> -0.10690577
A16: Storey | B16: 7781 | E16: ='Storey Revenue'!H6 -> 0.063523363 | F16: ='Storey Revenue'!H10 -> 0.013704888 | G16: 0 | H16: ='Storey Revenue'!H15 -> -0.07393316 | I16: ='Storey Revenue'!H74 -> 0.061248912 | J16: ='Storey Revenue'!H75 -> 0.013704888 | K16: ='Storey Revenue'!H76 -> 0.013704888 | L16: ='Storey Revenue'!H79 -> 0.052186506 | M16: ='Storey Revenue'!H77 -> -0.10543701
A17: Washoe | B17: 6304 | C17: Yes | E17: ='Washoe Revenue'!H15 -> 0.068435636 | F17: ='Washoe Revenue'!H20 -> -0.041725066 | G17: ='Washoe Revenue'!H26 -> -0.0038344499 | H17: ='Washoe Revenue'!H38 -> 0.036863146 | I17: ='Washoe Revenue'!H135 -> 0.067800494 | J17: ='Washoe Revenue'!H136 -> -0.0220013 | K17: ='Washoe Revenue'!H137 -> -0.0073784069 | L17: ='Washoe Revenue'!H139 -> 0.035551269 | M17: ='Washoe Revenue'!H138 -> 0.041206139
A18: White Pine | B18: 8515 | C18: Yes | E18: ='White Pine Revenue'!H8 -> 0.12475796 | F18: ='White Pine Revenue'!H12 -> -0.086188254 | G18: ='White Pine Revenue'!H17 -> 0 | H18: ='White Pine Revenue'!H24 -> 0.02906189 | I18: ='White Pine Revenue'!H86 -> 0.11718932 | J18: ='White Pine Revenue'!H87 -> -0.058189212 | K18: ='White Pine Revenue'!H88 -> -0.0055726627 | L18: ='White Pine Revenue'!H91 -> 0.01660964 | M18: ='White Pine Revenue'!H89 -> -0.0070999546

Sheet White Pine Revenue
B1: Local Revenue | C1: 18-19 | E1: 19-20 | G1: Difference | H1: % difference | J1: 1217.4 | K1: BSG | L1: 8035
A2: 1110 | B2: Property Tax | C2: 2145117 | D2: =C2/$J$1 -> 1762.0478 | E2: 2255840 | F2: =E2/$J$2 -> 1852.9982 | G2: =F2-D2 -> 90.950386 | H2: =G2/D2 -> 0.051616299 | J2: 1217.4
A3: 1111 | B3: Net Proceeds of Mines | C3: 1618706 | D3: =C3/$J$1 -> 1329.6419 | E3: 1966516 | F3: =E3/$J$2 -> 1615.3409 | G3: =F3-D3 -> 285.69903 | H3: =G3/D3 -> 0.21486916
A4: 1120 | B4: School Support Tax | C4: 2782197 | D4: =C4/$J$1 -> 2285.3598 | E4: 2979845 | F4: =E4/$J$2 -> 2447.7123 | G4: =F4-D4 -> 162.35255 | H4: =G4/D4 -> 0.071040261
A5: 1192 | B5: Governmental Services Tax | C5: 669524 | D5: =C5/$J$1 -> 549.96221 | E5: 866409 | F5: =E5/$J$2 -> 711.68802 | G5: =F5-D5 -> 161.72581 | H5: =G5/D5 -> 0.29406713
A6: 1300 | B6: Tuition | C6: 23000 | D6: =C6/$J$1 -> 18.892722 | E6: 23000 | F6: =E6/$J$2 -> 18.892722 | G6: =F6-D6 -> 0 | H6: =G6/D6 -> 0
A7: 1990 | B7: Misc. | C7: 0 | D7: =C7/$J$1 -> 0 | E7: 50000 | F7: =E7/$J$2 -> 41.071135 | G7: =F7-D7 -> 41.071135 | H7: =G7/D7 -> #DIV/0!
B8: Local Total | C8: =SUM(C2:C7) -> 7238544 | D8: =C8/$J$1 -> 5945.9044 | E8: =SUM(E2:E7) -> 8141610 | F8: =E8/$J$2 -> 6687.7033 | G8: =F8-D8 -> 741.79892 | H8: =G8/D8 -> 0.12475796
B10: State Revenue
A11: 3110 | B11: Distributive School Account | C11: 5637752 | D11: =C11/$J$1 -> 4630.9775 | E11: 5151844 | F11: =E11/$J$2 -> 4231.8416 | G11: =F11-D11 -> -399.13586 | H11: =G11/D11 -> -0.086188254
B12: State Total | C12: =SUM(C11:C11) -> 5637752 | D12: =C12/$J$1 -> 4630.9775 | E12: =SUM(E11:E11) -> 5151844 | F12: =E12/$J$2 -> 4231.8416 | G12: =F12-D12 -> -399.13586 | H12: =G12/D12 -> -0.086188254
B14: Federal Revenue | N14: =2016-63 -> 1953
A15: 4200 | B15: Unrestricted - State Agency | C15: 50000 | D15: =C15/$J$1 -> 41.071135 | E15: 50000 | F15: =E15/$J$2 -> 41.071135 | G15: =F15-D15 -> 0 | H15: =G15/D15 -> 0
A16: 4700 | B16: Restricted - Other Agency | C16: 13578 | D16: =C16/$J$1 -> 11.153277 | E16: 13578 | F16: =E16/$J$2 -> 11.153277 | G16: =F16-D16 -> 0 | H16: =G16/D16 -> 0
B17: Federal Total | C17: =SUM(C15:C16) -> 63578 | D17: =C17/$J$1 -> 52.224413 | E17: =SUM(E15:E16) -> 63578 | F17: =E17/$J$2 -> 52.224413 | G17: =F17-D17 -> 0 | H17: =G17/D17 -> 0
B19: Opening Fund Balance Revenue
B20: Reserved Operating | C20: 242098 | D20: =C20/J1 -> 198.86479 | E20: 839711 | F20: =E20/J2 -> 689.75768 | G20: =F20-D20 -> 490.89289 | H20: =G20/D20 -> 2.4684756
B21: Opening Balance (other) | C21: 2395370 | D21: =C21/J1 -> 1967.6113 | E21: 1833306 | F21: =E21/J2 -> 1505.9192 | G21: =F21-D21 -> -461.69213 | H21: =G21/D21 -> -0.234646
B22: Opening Fund Balance Total | C22: =SUM(C20:C21) -> 2637468 | D22: =C22/$J$1 -> 2166.4761 | E22: =SUM(E20:E21) -> 2673017 | F22: =E22/J2 -> 2195.6769 | G22: =F22-D22 -> 29.200756 | H22: =G22/D22 -> 0.013478457
B24: Total Resources | C24: 15577342 | D24: =C24/$J$1 -> 12795.582 | E24: 16030049 | F24: =E24/$J$2 -> 13167.446 | G24: =F24-D24 -> 371.86381 | H24: =G24/D24 -> 0.02906189
A26: Class Size Reduction
A27: 3110 | B27: DSA | C27: 364190 | D27: =C27/$J$1 -> 299.15393 | E27: 364190 | F27: =E27/$J$2 -> 299.15393 | G27: =F27-D27 -> 0 | H27: =G27/D27 -> 0
A28: 3000 | B28: State Total | C28: =C27 -> 364190 | D28: =C28/$J$1 -> 299.15393 | E28: =E27 -> 364190 | F28: =E28/$J$2 -> 299.15393 | G28: =F28-D28 -> 0 | H28: =G28/D28 -> 0
B29: Total Resources | C29: =C28 -> 364190 | D29: =C29/$J$1 -> 299.15393 | E29: =E28 -> 364190 | F29: =E29/$J$2 -> 299.15393 | G29: =F29-D29 -> 0 | H29: =G29/D29 -> 0
A31: Adult Education
A32: 3110 | B32: DSA | C32: 870957 | D32: =C32/$J$1 -> 715.42385 | E32: 800521 | F32: =E32/$J$2 -> 657.56612 | G32: =F32-D32 -> -57.85773 | H32: =G32/D32 -> -0.08087196
A33: 3000 | B33: State Total | C33: =C32 -> 870957 | D33: =C33/$J$1 -> 715.42385 | E33: =E32 -> 800521 | F33: =E33/$J$2 -> 657.56612 | G33: =F33-D33 -> -57.85773 | H33: =G33/D33 -> -0.08087196
B34: Total Resources | C34: =C33 -> 870957 | D34: =C34/$J$1 -> 715.42385 | E34: =E33 -> 800521 | F34: =E34/$J$2 -> 657.56612 | G34: =F34-D34 -> -57.85773 | H34: =G34/D34 -> -0.08087196
A36: State Projects
A37: 3200 | B37: Restricted Funding | C37: 1853640 | D37: =C37/$J$1 -> 1522.622 | E37: 1853640 | F37: =E37/$J$2 -> 1522.622 | G37: =F37-D37 -> 0 | H37: =G37/D37 -> 0
A38: 3000 | B38: State Total | C38: =C37 -> 1853640 | D38: =C38/$J$1 -> 1522.622 | E38: =E37 -> 1853640 | F38: =E38/$J$2 -> 1522.622 | G38: =F38-D38 -> 0 | H38: =G38/D38 -> 0
A39: 5200 | B39: Transfer from Other Funds | C39: 38675 | D39: =C39/$J$1 -> 31.768523 | E39: 38675 | F39: =E39/$J$2 -> 31.768523 | G39: =F39-D39 -> 0 | H39: =G39/D39 -> 0
B40: Total Resources | C40: 1903184 | D40: =C40/$J$1 -> 1563.3185 | E40: 1892315 | F40: =E40/$J$2 -> 1554.3905 | G40: =F40-D40 -> -8.9280434 | H40: =G40/D40 -> -0.005710956
A42: Special Education Fund
A43: 3115 | B43: Special Education - DSA Funding | C43: 834281 | D43: =C43/$J$1 -> 685.29736 | E43: 834281 | F43: =E43/$J$2 -> 685.29736 | G43: =F43-D43 -> 0 | H43: =G43/D43 -> 0
A44: 3000 | B44: State Total | C44: =C43 -> 834281 | D44: =C44/$J$1 -> 685.29736 | E44: =E43 -> 834281 | F44: =E44/$J$2 -> 685.29736 | G44: =F44-D44 -> 0 | H44: =G44/D44 -> 0
A45: 5200 | B45: Transfer from Other Funds | C45: 881218 | D45: =C45/$J$1 -> 723.85247 | E45: 881218 | F45: =E45/$J$2 -> 723.85247 | G45: =F45-D45 -> 0 | H45: =G45/D45 -> 0
B46: Total Resources | C46: =C45+C44 -> 1715499 | D46: =C46/$J$1 -> 1409.1498 | E46: =SUM(E44:E45) -> 1715499 | F46: =E46/$J$2 -> 1409.1498 | G46: =F46-D46 -> 0 | H46: =G46/D46 -> 0
A48: Federal Projects Fund
A49: 4500 | B49: Restricted State Agency | C49: 1733544 | D49: =C49/$J$1 -> 1423.9724 | E49: 1733544 | F49: =E49/$J$2 -> 1423.9724 | G49: =F49-D49 -> 0 | H49: =G49/D49 -> 0
...

Sheet White Pine Expenses
B1: Regular Programs | C1: 18-19 | D1: 18-19 Per Pupil | E1: 19-20 | F1: 19-20 Per Pupil | G1: Differences | H1: % Difference | J1: 1217.4 | K1: BSG | L1: 8035
B2: Instruction | J2: 1217.4
A3: 100 | B3: Salaries | C3: 2567436 | D3: =C3/$J$1 -> 2108.9502 | E3: 2551691 | F3: =E3/$J$2 -> 2096.0169 | G3: =F3-D3 -> -12.9333 | H3: =G3/D3 -> -0.0061325774
A4: 200 | B4: Benefits | C4: 1278317 | D4: =C4/$J$1 -> 1050.0386 | E4: 1344639 | F4: =E4/$J$2 -> 1104.517 | G4: =F4-D4 -> 54.478397 | H4: =G4/D4 -> 0.05188228
A5: 500 | B5: Purchase Services | C5: 264269 | D5: =C5/$J$1 -> 217.07656 | E5: 264347 | F5: =E5/$J$2 -> 217.14063 | G5: =F5-D5 -> 0.064070971 | H5: =G5/D5 -> 0.0002951538
A6: 600 | B6: Supplies | C6: 196399 | D6: =C6/$J$1 -> 161.3266 | E6: 114521 | F6: =E6/$J$2 -> 94.070149 | G6: =F6-D6 -> -67.256448 | H6: =G6/D6 -> -0.41689622
A7: 900 | B7: Other | C7: 289 | D7: =C7/$J$1 -> 0.23739116 | E7: 289 | F7: =E7/$J$2 -> 0.23739116 | G7: =F7-D7 -> 0 | H7: =G7/D7 -> 0
B8: Regular Programs Total | C8: =SUM(C3:C7) -> 4306710 | D8: =C8/$J$1 -> 3537.6294 | E8: =SUM(E3:E7) -> 4275487 | F8: =E8/$J$2 -> 3511.9821 | G8: =F8-D8 -> -25.647281 | H8: =G8/D8 -> -0.0072498497
B10: Vocational & Technical
A11: 100 | B11: Salaries | C11: 157436 | D11: =C11/$J$1 -> 129.3215 | E11: 240941 | F11: =E11/$J$2 -> 197.91441 | G11: =F11-D11 -> 68.592903 | H11: =G11/D11 -> 0.53040601
A12: 200 | B12: Benefits | C12: 75430 | D12: =C12/$J$1 -> 61.959915 | E12: 123391 | F12: =E12/$J$2 -> 101.35617 | G12: =F12-D12 -> 39.396254 | H12: =G12/D12 -> 0.63583455
A13: 600 | B13: Supplies | C13: 25894 | D13: =C13/$J$1 -> 21.26992 | E13: 20069 | F13: =E13/$J$2 -> 16.485132 | G13: =F13-D13 -> -4.7847873 | H13: =G13/D13 -> -0.22495559
B14: Vocational & Technical Total | C14: =SUM(C11:C13) -> 258760 | D14: =C14/$J$1 -> 212.55134 | E14: =SUM(E11:E13) -> 384401 | F14: =E14/$J$2 -> 315.75571 | G14: =F14-D14 -> 103.20437 | H14: =G14/D14 -> 0.48555032
B16: Adult Education
A17: 200 | B17: Benefits | C17: 2205 | D17: =C17/$J$1 -> 1.8112371 | E17: 0 | F17: =E17/$J$2 -> 0 | G17: =F17-D17 -> -1.8112371 | H17: =G17/D17 -> -1
B18: Adult Education Total | C18: =SUM(C17:C17) -> 2205 | D18: =C18/$J$1 -> 1.8112371 | E18: =SUM(E17:E17) -> 0 | F18: =E18/$J$2 -> 0 | G18: =F18-D18 -> -1.8112371 | H18: =G18/D18 -> -1
B20: Cocurricular Activities
A21: 100 | B21: Salaries | C21: 73927 | D21: =C21/$J$1 -> 60.725316 | E21: 76146 | F21: =E21/$J$2 -> 62.548053 | G21: =F21-D21 -> 1.822737 | H21: =G21/D21 -> 0.030016097
A22: 200 | B22: Benefits | C22: 5071 | D22: =C22/$J$1 -> 4.1654345 | E22: 5227 | F22: =E22/$J$2 -> 4.2935765 | G22: =F22-D22 -> 0.12814194 | H22: =G22/D22 -> 0.030763163
A23: 500 | B23: Purchase Services | C23: 8658 | D23: =C23/$J$1 -> 7.1118778 | E23: 8658 | F23: =E23/$J$2 -> 7.1118778 | G23: =F23-D23 -> 0 | H23: =G23/D23 -> 0
A24: 600 | B24: Supplies | C24: 15194 | D24: =C24/$J$1 -> 12.480697 | E24: 5859 | F24: =E24/$J$2 -> 4.8127156 | G24: =F24-D24 -> -7.6679809 | H24: =G24/D24 -> -0.61438726
A25: 800 | B25: Other | C25: 320 | D25: =C25/$J$1 -> 0.26285527 | E25: 320 | F25: =E25/$J$2 -> 0.26285527 | G25: =F25-D25 -> 0 | H25: =G25/D25 -> 0
B26: Transportation
A27: 100 | B27: Salaries | C27: 7593 | D27: =C27/$J$1 -> 6.2370626 | E27: 8330 | F27: =E27/$J$2 -> 6.8424511 | G27: =F27-D27 -> 0.60538853 | H27: =G27/D27 -> 0.097063084
A28: 200 | B28: Benefits | C28: 769 | D28: =C28/$J$1 -> 0.63167406 | E28: 795 | F28: =E28/$J$2 -> 0.65303105 | G28: =F28-D28 -> 0.02135699 | H28: =G28/D28 -> 0.033810143
A29: 900 | B29: Misc | C29: 1447 | D29: =C29/$J$1 -> 1.1885987 | E29: 1569 | F29: =E29/$J$2 -> 1.2888122 | G29: =F29-D29 -> 0.10021357 | H29: =G29/D29 -> 0.08431237
B30: Cocurricular Activities Total | C30: =SUM(C21:C29) -> 112979 | D30: =C30/$J$1 -> 92.803516 | E30: =SUM(E21:E29) -> 106904 | F30: =E30/$J$2 -> 87.813373 | G30: =F30-D30 -> -4.9901429 | H30: =G30/D30 -> -0.053771055
B32: Athletic
A33: 100 | B33: Salaries | C33: 138734 | D33: =C33/$J$1 -> 113.95926 | E33: 142897 | F33: =E33/$J$2 -> 117.37884 | G33: =F33-D33 -> 3.4195827 | H33: =G33/D33 -> 0.030007064
A34: 200 | B34: Benefits | C34: 9830 | D34: =C34/$J$1 -> 8.0745852 | E34: 10129 | F34: =E34/$J$2 -> 8.3201906 | G34: =F34-D34 -> 0.24560539 | H34: =G34/D34 -> 0.030417091
A35: 500 | B35: Purchase Services | C35: 61874 | D35: =C35/$J$1 -> 50.824708 | E35: 61874 | F35: =E35/$J$2 -> 50.824708 | G35: =F35-D35 -> 0 | H35: =G35/D35 -> 0
A36: 600 | B36: Supplies | C36: 17200 | D36: =C36/$J$1 -> 14.128471 | E36: 12002 | F36: =E36/$J$2 -> 9.8587153 | G36: =F36-D36 -> -4.2697552 | H36: =G36/D36 -> -0.3022093
A37: 900 | B37: Misc | C37: 1900 | D37: =C37/$J$1 -> 1.5607031 | E37: 2180 | F37: =E37/$J$2 -> 1.7907015 | G37: =F37-D37 -> 0.22999836 | H37: =G37/D37 -> 0.14736842
B38: Transportation
A39: 100 | B39: Salaries | C39: 35076 | D39: =C39/$J$1 -> 28.812223 | E39: 36129 | F39: =E39/$J$2 -> 29.677181 | G39: =F39-D39 -> 0.86495811 | H39: =G39/D39 -> 0.030020527
A40: 200 | B40: Benefits | C40: 3492 | D40: =C40/$J$1 -> 2.8684081 | E40: 3600 | F40: =E40/$J$2 -> 2.9571217 | G40: =F40-D40 -> 0.088713652 | H40: =G40/D40 -> 0.030927835
A41: 900 | B41: Misc | C41: 6561 | D41: =C41/$J$1 -> 5.3893544 | E41: 6561 | F41: =E41/$J$2 -> 5.3893544 | G41: =F41-D41 -> 0 | H41: =G41/D41 -> 0
B42: Athletic Total | C42: =SUM(C33:C41) -> 274667 | D42: =C42/$J$1 -> 225.61771 | E42: =SUM(E33:E41) -> 275372 | F42: =E42/$J$2 -> 226.19681 | G42: =F42-D42 -> 0.57910301 | H42: =G42/D42 -> 0.0025667445
B44: Instruction Staff Support
A45: 500 | B45: Purchase Services | C45: 3635 | D45: =C45/$J$1 -> 2.9858715 | E45: 4483 | F45: =E45/$J$2 -> 3.682438 | G45: =F45-D45 -> 0.69656645 | H45: =G45/D45 -> 0.23328748
...

Sheet Washoe Revenue
B1: Local Revenue | C1: 18-19 | D1: 18-19 Per Pupil | E1: 19-20 | F1: 19-20 Per Pupil | G1: Difference | H1: % difference | J1: 63311.7 | K1: BSG | L1: 6304
A2: 1110 | B2: Property Tax | C2: 110388289 | D2: =C2/$J$1 -> 1743.5686 | E2: 116970855 | F2: =E2/$J$2 -> 1840.455 | G2: =F2-D2 -> 96.88647 | H2: =G2/D2 -> 0.055567915 | J2: 63555.4
A3: 1120 | B3: School Support Tax | C3: 204138121 | D3: =C3/$J$1 -> 3224.3349 | E3: 218447651 | F3: =E3/$J$2 -> 3437.1218 | G3: =F3-D3 -> 212.78695 | H3: =G3/D3 -> 0.06599406
A4: 1191 | B4: Franchise Tax | C4: 250000 | D4: =C4/$J$1 -> 3.9487172 | E4: 250000 | F4: =E4/$J$2 -> 3.9335761 | G4: =F4-D4 -> -0.015141159 | H4: =G4/D4 -> -0.0038344499
A5: 1192 | B5: Governmental Services Tax | C5: 18701868 | D5: =C5/$J$1 -> 295.39355 | E5: 21315759 | F5: =E5/$J$2 -> 335.38864 | G5: =F5-D5 -> 39.995084 | H5: =G5/D5 -> 0.13539593
A6: 1210 | B6: Boat Tax | C6: 185000 | D6: =C6/$J$1 -> 2.9220507 | E6: 185000 | F6: =E6/$J$2 -> 2.9108463 | G6: =F6-D6 -> -0.011204457 | H6: =G6/D6 -> -0.0038344499
A7: 1300 | B7: Tuition | C7: 316000 | D7: =C7/$J$1 -> 4.9911786 | E7: 316000 | F7: =E7/$J$2 -> 4.9720401 | G7: =F7-D7 -> -0.019138424 | H7: =G7/D7 -> -0.0038344499
A8: 1400 | B8: Transportation | C8: 620000 | D8: =C8/$J$1 -> 9.7928187 | E8: 620000 | F8: =E8/$J$2 -> 9.7552686 | G8: =F8-D8 -> -0.037550073 | H8: =G8/D8 -> -0.0038344499
A9: 1500 | B9: Earnings on Investments | C9: 350000 | D9: =C9/$J$1 -> 5.5282041 | E9: 1000000 | F9: =E9/$J$2 -> 15.734304 | G9: =F9-D9 -> 10.2061 | H9: =G9/D9 -> 1.8461873
A10: 1700 | B10: Districts Activities Revenue | C10: 170000 | D10: =C10/$J$1 -> 2.6851277 | E10: 270000 | F10: =E10/$J$2 -> 4.2482621 | G10: =F10-D10 -> 1.5631344 | H10: =G10/D10 -> 0.58214529
A11: 1900 | B11: Other Revenues | C11: 30000 | D11: =C11/$J$1 -> 0.47384607 | E11: 30000 | F11: =E11/$J$2 -> 0.47202913 | G11: =F11-D11 -> -0.001816939 | H11: =G11/D11 -> -0.0038344499
A12: 1920 | B12: Rentals | C12: 135000 | D12: =C12/$J$1 -> 2.1323073 | E12: 135000 | F12: =E12/$J$2 -> 2.1241311 | G12: =F12-D12 -> -0.0081762256 | H12: =G12/D12 -> -0.0038344499
A13: 1920 | B13: Donations | C13: 10000 | D13: =C13/$J$1 -> 0.15794869 | E13: 10000 | F13: =E13/$J$2 -> 0.15734304 | G13: =F13-D13 -> -0.00060564634 | H13: =G13/D13 -> -0.0038344499
A14: 1990 | B14: Misc. | C14: 3735000 | D14: =C14/$J$1 -> 58.993835 | E14: 4075000 | F14: =E14/$J$2 -> 64.11729 | G14: =F14-D14 -> 5.1234545 | H14: =G14/D14 -> 0.086847287
B15: Local Total | C15: =SUM(C2:C14) -> 339029278 | D15: =C15/$J$1 -> 5354.923 | E15: =SUM(E2:E14) -> 363625265 | F15: =E15/$J$2 -> 5721.3906 | G15: =F15-D15 -> 366.46756 | H15: =G15/D15 -> 0.068435636
B17: State Revenue
A18: 3110 | B18: Distributive School Account | C18: 116897984 | D18: =C18/$J$1 -> 1846.3883 | E18: 118809948 | F18: =E18/$J$2 -> 1869.3919 | G18: =F18-D18 -> 23.00354 | H18: =G18/D18 -> 0.012458668
A19: 3900 | B19: For/on behalf of School Districts | C19: 6609762 | D19: =C19/$J$1 -> 104.40032 | E19: 5294592 | F19: =E19/$J$2 -> 83.306721 | G19: =F19-D19 -> -21.093603 | H19: =G19/D19 -> -0.20204538
B20: State Total | C20: =SUM(C18:C19) -> 123507746 | D20: =C20/$J$1 -> 1950.7887 | E20: =SUM(E18:E18) -> 118809948 | F20: =E20/$J$2 -> 1869.3919 | G20: =F20-D20 -> -81.396784 | H20: =G20/D20 -> -0.041725066
B22: Federal Revenue
A23: 4103 | B23: Energy Education | C23: 300000 | D23: =C23/$J$1 -> 4.7384607 | E23: 300000 | F23: =E23/$J$2 -> 4.7202913 | G23: =F23-D23 -> -0.01816939 | H23: =G23/D23 -> -0.0038344499
A24: 4710 | B24: Forrest Revenue | C24: 25000 | D24: =C24/$J$1 -> 0.39487172 | E24: 25000 | F24: =E24/$J$2 -> 0.39335761 | G24: =F24-D24 -> -0.0015141159 | H24: =G24/D24 -> -0.0038344499
A25: 4800 | B25: Revenue in Lieu of Taxes | C25: 165000 | D25: =C25/$J$1 -> 2.6061534 | E25: 165000 | F25: =E25/$J$2 -> 2.5961602 | G25: =F25-D25 -> -0.0099931646 | H25: =G25/D25 -> -0.0038344499
B26: Federal Total | C26: =SUM(C23:C25) -> 490000 | D26: =C26/$J$1 -> 7.7394858 | E26: =SUM(E23:E25) -> 490000 | F26: =E26/$J$2 -> 7.7098091 | G26: =F26-D26 -> -0.029676671 | H26: =G26/D26 -> -0.0038344499
B28: Other Sources of Fund
A29: 5300 | B29: Gain/loss of disposal of Assets | C29: 80000 | D29: =C29/$J$1 -> 1.2635895 | E29: 80000 | F29: =E29/$J$2 -> 1.2587443 | G29: =F29-D29 -> -0.0048451707 | H29: =G29/D29 -> -0.0038344499
A30: 5500 | B30: Capital lease proceeds | C30: 0 | D30: =C30/$J$1 -> 0 | E30: 150000 | F30: =E30/$J$2 -> 2.3601456 | G30: =F30-D30 -> 2.3601456 | H30: =G30/D30 -> #DIV/0!
B31: Other Sources of Fund Total | C31: =SUM(C29:C30) -> 80000 | D31: =C31/$J$1 -> 1.2635895 | E31: =SUM(E29:E30) -> 230000 | F31: =E31/$J$2 -> 3.61889 | G31: =F31-D31 -> 2.3553005 | H31: =G31/D31 -> 1.863976
B33: Opening Fund Balance Revenue
B34: Reserved Opening Balance | C34: 11701210 | D34: =C34/$J$1 -> 184.81908 | E34: 1283456 | F34: =E34/$J$2 -> 20.194287 | G34: =F34-D34 -> -164.62479 | H34: =G34/D34 -> -0.89073483
B35: Opening Balance (other) | C35: 29181496 | D35: =C35/$J$1 -> 460.9179 | E35: 34996591 | F35: =E35/$J$2 -> 550.64701 | G35: =F35-D35 -> 89.729107 | H35: =G35/D35 -> 0.19467481
B36: Opening Fund Balance Total | C36: =SUM(C34:C35) -> 40882706 | D36: =C36/$J$1 -> 645.73698 | E36: =SUM(E34:E35) -> 36280047 | F36: =E36/$J$2 -> 570.8413 | G36: =F36-D36 -> -74.895683 | H36: =G36/D36 -> -0.11598481
B38: Total Resources | C38: 503989730 | D38: =C38/$J$1 -> 7960.4517 | E38: 524579852 | F38: =E38/$J$2 -> 8253.899 | G38: =F38-D38 -> 293.44729 | H38: =G38/D38 -> 0.036863146
B40: Building and Sites Fund
A41: 1910 | B41: Rentals | C41: 100000 | D41: =C41/$J$1 -> 1.5794869 | E41: 100000 | F41: =E41/$J$2 -> 1.5734304 | G41: =F41-D41 -> -0.0060564634 | H41: =G41/D41 -> -0.0038344499
A42: 1000 | B42: Local Sources | C42: =C41 -> 100000 | D42: =D41 -> 1.5794869 | E42: =E41 -> 100000 | F42: =E42/$J$2 -> 1.5734304 | G42: =F42-D42 -> -0.0060564634 | H42: =G42/D42 -> -0.0038344499
B43: Total Resources | C43: 1043419 | D43: =C43/$J$1 -> 16.480666 | E43: 200000 | F43: =E43/$J$2 -> 3.1468608 | G43: =F43-D43 -> -13.333805 | H43: =G43/D43 -> -0.80905743
A45: Capital Projects - Sales Tax 2017
A46: 1400 | B46: Transportation Fee | C46: 947675 | D46: =C46/$J$1 -> 14.968402 | E46: 0 | F46: =E46/$J$2 -> 0 | G46: =F46-D46 -> -14.968402 | H46: =G46/D46 -> -1
A47: 1000 | B47: Local Sources | C47: =C46 -> 947675 | D47: =D46 -> 14.968402 | E47: =E46 -> 0 | F47: =E47/$J$2 -> 0 | G47: =F47-D47 -> -14.968402 | H47: =G47/D47 -> -1
...

Sheet Washoe Expenditure
A1: 100 | B1: Regular Programs | C1: 18-19 | D1: 18-19 Per Pupil | E1: 19-20 | F1: 19-20 Per Pupil | G1: Differences | H1: % Difference | J1: 63311.7
B2: Instruction | J2: 63555.4
A3: 100 | B3: Salaries | C3: 142367144 | D3: =C3/$J$1 -> 2248.6704 | E3: 145909072 | F3: =E3/$J$2 -> 2295.7777 | G3: =F3-D3 -> 47.107359 | H3: =G3/D3 -> 0.020948984
A4: 200 | B4: Benefits | C4: 62411064 | D4: =C4/$J$1 -> 985.77457 | E4: 66757218 | F4: =E4/$J$2 -> 1050.3784 | G4: =F4-D4 -> 64.603806 | H4: =G4/D4 -> 0.065536085
A5: 500 | B5: Purchase Services | C5: 2146954 | D5: =C5/$J$1 -> 33.910857 | E5: 2193352 | F5: =E5/$J$2 -> 34.510868 | G5: =F5-D5 -> 0.60001076 | H5: =G5/D5 -> 0.017693766
A6: 600 | B6: Supplies | C6: 10512631 | D6: =C6/$J$1 -> 166.04563 | E6: 8395620 | F6: =E6/$J$2 -> 132.09924 | G6: =F6-D6 -> -33.946389 | H6: =G6/D6 -> -0.20444012
A7: 700 | B7: Property | C7: 273903 | D7: =C7/$J$1 -> 4.326262 | E7: 181285 | F7: =E7/$J$2 -> 2.8523933 | G7: =F7-D7 -> -1.4738686 | H7: =G7/D7 -> -0.34067947
A8: 900 | B8: Misc. | C8: 59179 | D8: =C8/$J$1 -> 0.93472455 | E8: 65429 | F8: =E8/$J$2 -> 1.0294798 | G8: =F8-D8 -> 0.094755247 | H8: =G8/D8 -> 0.10137237
A9: 100 | B9: Regular Programs Total | C9: =SUM(C3:C8) -> 217770875 | D9: =C9/$J$1 -> 3439.6624 | E9: =SUM(E3:E8) -> 223501976 | F9: =E9/$J$2 -> 3516.6481 | G9: =F9-D9 -> 76.985673 | H9: =G9/D9 -> 0.022381753
A11: 270 | B11: Gifted and Talented
B12: Instruction
A13: 100 | B13: Salaries | C13: 2635636 | D13: =C13/$J$1 -> 41.629525 | E13: 2742171 | F13: =E13/$J$2 -> 43.146153 | G13: =F13-D13 -> 1.5166278 | H13: =G13/D13 -> 0.036431542
A14: 200 | B14: Benefits | C14: 1196640 | D14: =C14/$J$1 -> 18.900772 | E14: 1263636 | F14: =E14/$J$2 -> 19.882433 | G14: =F14-D14 -> 0.98166138 | H14: =G14/D14 -> 0.051937635
A15: 500 | B15: Purchase Services | C15: 20441 | D15: =C15/$J$1 -> 0.32286291 | E15: 20455 | F15: =E15/$J$2 -> 0.32184519 | G15: =F15-D15 -> -0.0010177214 | H15: =G15/D15 -> -0.0031521782
A16: 600 | B16: Supplies | C16: 85295 | D16: =C16/$J$1 -> 1.3472233 | E16: 88788 | F16: =E16/$J$2 -> 1.3970174 | G16: =F16-D16 -> 0.049794064 | H16: =G16/D16 -> 0.036960512
B17: Instructional Staff Support
A18: 100 | B18: Salaries | C18: 523683 | D18: =C18/$J$1 -> 8.2715043 | E18: 505879 | F18: =E18/$J$2 -> 7.9596541 | G18: =F18-D18 -> -0.31185022 | H18: =G18/D18 -> -0.037701754
A19: 200 | B19: Benefits | C19: 186747 | D19: =C19/$J$1 -> 2.9496444 | E19: 212490 | F19: =E19/$J$2 -> 3.3433823 | G19: =F19-D19 -> 0.39373793 | H19: =G19/D19 -> 0.13348658
A20: 500 | B20: Purchase Services | C20: 91066 | D20: =C20/$J$1 -> 1.4383755 | E20: 91066 | F20: =E20/$J$2 -> 1.4328602 | G20: =F20-D20 -> -0.005515379 | H20: =G20/D20 -> -0.0038344499
A21: 600 | B21: Supplies | C21: 6173 | D21: =C21/$J$1 -> 0.097501726 | E21: 9667 | F21: =E21/$J$2 -> 0.15210352 | G21: =F21-D21 -> 0.054601794 | H21: =G21/D21 -> 0.56000848
A22: 270 | B22: Gifted and Talented Total | C22: =SUM(C13:C21) -> 4745681 | D22: =C22/$J$1 -> 74.957409 | E22: =SUM(E13:E21) -> 4934152 | F22: =E22/$J$2 -> 77.635449 | G22: =F22-D22 -> 2.6780396 | H22: =G22/D22 -> 0.035727484
A24: 300 | B24: Vocational & Tech
B25: Instruction
A26: 100 | B26: Salaries | C26: 3462202 | D26: =C26/$J$1 -> 54.685027 | E26: 3639928 | F26: =E26/$J$2 -> 57.271735 | G26: =F26-D26 -> 2.586708 | H26: =G26/D26 -> 0.047301942
A27: 200 | B27: Benefits | C27: 1623490 | D27: =C27/$J$1 -> 25.642812 | E27: 1700516 | F27: =E27/$J$2 -> 26.756436 | G27: =F27-D27 -> 1.1136244 | H27: =G27/D27 -> 0.043428328
A28: 500 | B28: Purchase Services | C28: 34821 | D28: =C28/$J$1 -> 0.54999313 | E28: 34900 | F28: =E28/$J$2 -> 0.54912722 | G28: =F28-D28 -> -0.00086591109 | H28: =G28/D28 -> -0.0015744035
A29: 600 | B29: Supplies | C29: 146969 | D29: =C29/$J$1 -> 2.3213561 | E29: 143067 | F29: =E29/$J$2 -> 2.2510597 | G29: =F29-D29 -> -0.070296379 | H29: =G29/D29 -> -0.030282463
A30: 700 | B30: Property | C30: 1000 | D30: =C30/$J$1 -> 0.015794869 | E30: 1000 | F30: =E30/$J$2 -> 0.015734304 | G30: =F30-D30 -> -6.0564634e-05 | H30: =G30/D30 -> -0.0038344499
A31: 900 | B31: Misc. | C31: 700 | D31: =C31/$J$1 -> 0.011056408 | E31: 700 | F31: =E31/$J$2 -> 0.011014013 | G31: =F31-D31 -> -4.2395244e-05 | H31: =G31/D31 -> -0.0038344499
B32: Instructional Staff Support
A33: 100 | B33: Salaries | C33: 197671 | D33: =C33/$J$1 -> 3.1221875 | E33: 202942 | F33: =E33/$J$2 -> 3.1931512 | G33: =F33-D33 -> 0.070963646 | H33: =G33/D33 -> 0.022728822
A34: 200 | B34: Benefits | C34: 64636 | D34: =C34/$J$1 -> 1.0209171 | E34: 89591 | F34: =E34/$J$2 -> 1.4096521 | G34: =F34-D34 -> 0.38873491 | H34: =G34/D34 -> 0.38077028
A35: 500 | B35: Purchase Services | C35: 3350 | D35: =C35/$J$1 -> 0.052912811 | E35: 3975 | F35: =E35/$J$2 -> 0.062543859 | G35: =F35-D35 -> 0.0096310486 | H35: =G35/D35 -> 0.18201733
A36: 600 | B36: Supplies | C36: 2784 | D36: =C36/$J$1 -> 0.043972915 | E36: 2784 | F36: =E36/$J$2 -> 0.043804303 | G36: =F36-D36 -> -0.00016861194 | H36: =G36/D36 -> -0.0038344499
A37: 300 | B37: Vocational & Tech Total | C37: =SUM(C26:C36) -> 5537623 | D37: =C37/$J$1 -> 87.466029 | E37: =SUM(E26:E36) -> 5819403 | F37: =E37/$J$2 -> 91.564257 | G37: =F37-D37 -> 4.0982281 | H37: =G37/D37 -> 0.046855084
A39: 420 | B39: English Language Learners
B40: Instruction
A41: 100 | B41: Salaries | C41: 7255672 | D41: =C41/$J$1 -> 114.60239 | E41: 7039922 | F41: =E41/$J$2 -> 110.76827 | G41: =F41-D41 -> -3.8341133 | H41: =G41/D41 -> -0.033455789
A42: 200 | B42: Benefits | C42: 3373674 | D42: =C42/$J$1 -> 53.286738 | E42: 3182559 | F42: =E42/$J$2 -> 50.075352 | G42: =F42-D42 -> -3.2113869 | H42: =G42/D42 -> -0.060266156
A43: 600 | B43: Supplies | C43: 15000 | D43: =C43/$J$1 -> 0.23692303 | E43: 15000 | F43: =E43/$J$2 -> 0.23601456 | G43: =F43-D43 -> -0.00090846951 | H43: =G43/D43 -> -0.0038344499
...

Sheet Storey Revenue
B1: Local Revenue | C1: 18-19 | D1: 18-19 Per Pupil | E1: 19-20 | F1: 19-20 Per Pupil | G1: Difference | H1: % difference | J1: 443.8 | K1: BSG | L1: 7718
A2: 1110 | B2: Property Tax | C2: 4959551 | D2: =C2/$J$1 -> 11175.194 | E2: 5134984 | F2: =E2/$J$2 -> 11729.063 | G2: =F2-D2 -> 553.86972 | H2: =G2/D2 -> 0.049562426 | J2: 437.8
A3: 1120 | B3: School Support Tax | C3: 1425666 | D3: =C3/$J$1 -> 3212.4065 | E3: 1573504 | F3: =E3/$J$2 -> 3594.116 | G3: =F3-D3 -> 381.70955 | H3: =G3/D3 -> 0.11882355
A4: 1192 | B4: Governmental Services Tax | C4: 186692 | D4: =C4/$J$1 -> 420.66697 | E4: 186692 | F4: =E4/$J$2 -> 426.43216 | G4: =F4-D4 -> 5.7651937 | H4: =G4/D4 -> 0.013704888
A5: 1990 | B5: Misc. | C5: 6000 | D5: =C5/$J$1 -> 13.519603 | E5: 6000 | F5: =E5/$J$2 -> 13.704888 | G5: =F5-D5 -> 0.18528465 | H5: =G5/D5 -> 0.013704888
B6: Local Total | C6: =SUM(C2:C5) -> 6577909 | D6: =C6/$J$1 -> 14821.787 | E6: =SUM(E2:E5) -> 6901180 | F6: =E6/$J$2 -> 15763.317 | G6: =F6-D6 -> 941.52974 | H6: =G6/D6 -> 0.063523363
B8: State Revenue
A9: 3110 | B9: Distributive School Account | C9: 295269 | D9: =C9/$J$1 -> 665.31996 | E9: 295269 | F9: =E9/$J$2 -> 674.4381 | G9: =F9-D9 -> 9.1181356 | H9: =G9/D9 -> 0.013704888
B10: State Total | C10: =SUM(C9:C9) -> 295269 | D10: =C10/$J$1 -> 665.31996 | E10: =SUM(E9:E9) -> 295269 | F10: =E10/$J$2 -> 674.4381 | G10: =F10-D10 -> 9.1181356 | H10: =G10/D10 -> 0.013704888
B11: Opening Fund Balance Revenue
B12: Opening Balance (other) | C12: 3149954 | D12: =C12/$J$1 -> 7097.6881 | E12: 1962148 | F12: =E12/$J$2 -> 4481.8365 | G12: =F12-D12 -> -2615.8517 | H12: =G12/D12 -> -0.36854982
B13: Opening Fund Balance Total | C13: =SUM(C12:C12) -> 3149954 | D13: =C13/$J$1 -> 7097.6881 | E13: =SUM(E12:E12) -> 1962148 | F13: =E13/$J$2 -> 4481.8365 | G13: =F13-D13 -> -2615.8517 | H13: =G13/D13 -> -0.36854982
B15: Total Resources | C15: 10023132 | D15: =C15/$J$1 -> 22584.795 | E15: 9156600 | F15: =E15/$J$2 -> 20915.03 | G15: =F15-D15 -> -1669.7653 | H15: =G15/D15 -> -0.07393316
A17: Capital Projects
A18: 1192 | B18: Motor Vehicle Tax | C18: 51950 | D18: =C18/$J$1 -> 117.05723 | E18: 52000 | F18: =E18/$J$2 -> 118.7757 | G18: =F18-D18 -> 1.7184637 | H18: =G18/D18 -> 0.014680542
A19: 1150 | B19: Construction Tax | C19: 6000 | D19: =C19/$J$1 -> 13.519603 | E19: 10000 | F19: =E19/$J$2 -> 22.84148 | G19: =F19-D19 -> 9.3218767 | H19: =G19/D19 -> 0.68950815
A20: 1500 | B20: Earnings on Investments | C20: 1000 | D20: =C20/$J$1 -> 2.2532672 | E20: 100 | F20: =E20/$J$2 -> 0.2284148 | G20: =F20-D20 -> -2.0248524 | H20: =G20/D20 -> -0.89862951
A21: 1992 | B21: EPA Fines | C21: 7000 | D21: =C21/$J$1 -> 15.772871 | E21: 1000 | F21: =E21/$J$2 -> 2.284148 | G21: =F21-D21 -> -13.488723 | H21: =G21/D21 -> -0.85518502
A22: 1000 | B22: Local Total | C22: =SUM(C18:C21) -> 65950 | D22: =C22/$J$1 -> 148.60297 | E22: =SUM(E18:E21) -> 63100 | F22: =E22/$J$2 -> 144.12974 | G22: =F22-D22 -> -4.4732347 | H22: =G22/D22 -> -0.030101919
A23: 5200 | B23: Tranfer from Other Funds | C23: 78578 | D23: =C23/$J$1 -> 177.05723 | E23: 0 | F23: =E23/$J$2 -> 0 | G23: =F23-D23 -> -177.05723 | H23: =G23/D23 -> -1
B24: Total Resources | C24: 585143 | D24: =C24/$J$1 -> 1318.4836 | E24: 63100 | F24: =E24/$J$2 -> 144.12974 | G24: =F24-D24 -> -1174.3538 | H24: =G24/D24 -> -0.89068522
A26: Federal Funds
A27: 4200 | B27: Unrestricted - State Agency | C27: 249669 | D27: =C27/$J$1 -> 562.57098 | E27: 249669 | F27: =E27/$J$2 -> 570.28095 | G27: =F27-D27 -> 7.7099723 | H27: =G27/D27 -> 0.013704888
A28: 4500 | B28: Restricted Grants | C28: 241522 | D28: =C28/$J$1 -> 544.21361 | E28: 241522 | F28: =E28/$J$2 -> 551.672 | G28: =F28-D28 -> 7.4583866 | H28: =G28/D28 -> 0.013704888
A29: 4000 | B29: Federal Total | C29: =SUM(C27:C28) -> 491191 | D29: =C29/$J$1 -> 1106.7846 | E29: =SUM(E27:E28) -> 491191 | F29: =E29/$J$2 -> 1121.9529 | G29: =F29-D29 -> 15.168359 | H29: =G29/D29 -> 0.013704888
B30: Total Resources | C30: =C29 -> 491191 | D30: =C30/$J$1 -> 1106.7846 | E30: =E29 -> 491191 | F30: =E30/$J$2 -> 1121.9529 | G30: =F30-D30 -> 15.168359 | H30: =G30/D30 -> 0.013704888
A32: State Grants
A33: 1620 | B33: Daily Sales School Lunch | C33: 3000 | D33: =C33/J1 -> 6.7598017 | E33: 3000 | F33: =E33/J2 -> 6.852444 | G33: =F33-D33 -> 0.092642326 | H33: =G33/D33 -> 0.013704888
A34: 1940 | B34: RPDP WCSD Grant | C34: 55000 | D34: =C34/$J$1 -> 123.9297 | E34: 55000 | F34: =E34/$J$2 -> 125.62814 | G34: =F34-D34 -> 1.6984426 | H34: =G34/D34 -> 0.013704888
A35: 1000 | B35: Local Total | C35: =SUM(C33:C34) -> 58000 | D35: =C35/$J$1 -> 130.6895 | E35: =SUM(E33:E34) -> 58000 | F35: =E35/$J$2 -> 132.48058 | G35: =F35-D35 -> 1.791085 | H35: =G35/D35 -> 0.013704888
A36: 3200 | B36: Elementary Counselor | C36: 50000 | D36: =C36/$J$1 -> 112.66336 | E36: 50000 | F36: =E36/$J$2 -> 114.2074 | G36: =F36-D36 -> 1.5440388 | H36: =G36/D36 -> 0.013704888
A37: 3200 | B37: CSR Grades 1-3 | C37: 121026 | D37: =C37/$J$1 -> 272.70392 | E37: 121026 | F37: =E37/$J$2 -> 276.4413 | G37: =F37-D37 -> 3.7373767 | H37: =G37/D37 -> 0.013704888
A38: 3200 | B38: Library Books | C38: 878 | D38: =C38/$J$1 -> 1.9783686 | E38: 878 | F38: =E38/$J$2 -> 2.005482 | G38: =F38-D38 -> 0.027113321 | H38: =G38/D38 -> 0.013704888
A39: 3200 | B39: Gifted and Talented | C39: 14586 | D39: =C39/$J$1 -> 32.866156 | E39: 14586 | F39: =E39/$J$2 -> 33.316583 | G39: =F39-D39 -> 0.45042699 | H39: =G39/D39 -> 0.013704888
A40: 3200 | B40: Turnaround | C40: 69696 | D40: =C40/$J$1 -> 157.04371 | E40: 69696 | F40: =E40/$J$2 -> 159.19598 | G40: =F40-D40 -> 2.1522665 | H40: =G40/D40 -> 0.013704888
A41: 3200 | B41: CCR STEM | C41: 33678 | D41: =C41/$J$1 -> 75.885534 | E41: 33678 | F41: =E41/$J$2 -> 76.925537 | G41: =F41-D41 -> 1.0400028 | H41: =G41/D41 -> 0.013704888
A42: 3200 | B42: CCR Duel Enrollment | C42: 64000 | D42: =C42/$J$1 -> 144.2091 | E42: 64000 | F42: =E42/$J$2 -> 146.18547 | G42: =F42-D42 -> 1.9763696 | H42: =G42/D42 -> 0.013704888
A43: 3200 | B43: Teachers Supply Reimbursement | C43: 3368 | D43: =C43/$J$1 -> 7.5890041 | E43: 3368 | F43: =E43/$J$2 -> 7.6930105 | G43: =F43-D43 -> 0.10400645 | H43: =G43/D43 -> 0.013704888
A44: 3200 | B44: Sped Cont. Account | C44: 3750 | D44: =C44/$J$1 -> 8.4497521 | E44: 3750 | F44: =E44/$J$2 -> 8.565555 | G44: =F44-D44 -> 0.11580291 | H44: =G44/D44 -> 0.013704888
A45: 3550 | B45: State Matching Food | C45: 85 | D45: =C45/$J$1 -> 0.19152772 | E45: 85 | F45: =E45/$J$2 -> 0.19415258 | G45: =F45-D45 -> 0.0026248659 | H45: =G45/D45 -> 0.013704888
...

Sheet Storey Expenditure
A1: 100 | B1: Regular Programs | C1: 18-19 | D1: 18-19 Per Pupil | E1: 19-20 | F1: 19-20 Per Pupil | G1: Differences | H1: % Difference | J1: 443.8
B2: Instruction | J2: 437.8
A3: 100 | B3: Salaries | C3: 1618534 | D3: =C3/$J$1 -> 3646.9896 | E3: 1690675 | F3: =E3/$J$2 -> 3861.7519 | G3: =F3-D3 -> 214.76231 | H3: =G3/D3 -> 0.058887556
A4: 200 | B4: Benefits | C4: 849567 | D4: =C4/$J$1 -> 1914.3015 | E4: 931518 | F4: =E4/$J$2 -> 2127.725 | G4: =F4-D4 -> 213.4235 | H4: =G4/D4 -> 0.11148897
A5: 500 | B5: Purchase Services | C5: 80769 | D5: =C5/$J$1 -> 181.99414 | E5: 78956 | F5: =E5/$J$2 -> 180.34719 | G5: =F5-D5 -> -1.646951 | H5: =G5/D5 -> -0.0090494727
A6: 600 | B6: Supplies | C6: 358300 | D6: =C6/$J$1 -> 807.34565 | E6: 441930 | F6: =E6/$J$2 -> 1009.4335 | G6: =F6-D6 -> 202.08788 | H6: =G6/D6 -> 0.25031147
A7: 100 | B7: Regular Programs Total | C7: =SUM(C3:C6) -> 2907170 | D7: =C7/$J$1 -> 6550.6309 | E7: =SUM(E3:E6) -> 3143079 | F7: =E7/$J$2 -> 7179.2577 | G7: =F7-D7 -> 628.62674 | H7: =G7/D7 -> 0.095964304
A9: 910 | B9: Cocurricular Activities
B10: Instruction
A11: 100 | B11: Salaries | C11: 26344 | D11: =C11/$J$1 -> 59.360072 | E11: 26344 | F11: =E11/$J$2 -> 60.173595 | G11: =F11-D11 -> 0.81352314 | H11: =G11/D11 -> 0.013704888
A12: 200 | B12: Benefits | C12: 2290 | D12: =C12/$J$1 -> 5.159982 | E12: 2290 | F12: =E12/$J$2 -> 5.2306989 | G12: =F12-D12 -> 0.070716975 | H12: =G12/D12 -> 0.013704888
A13: 500 | B13: Purchase Services | C13: 7500 | D13: =C13/$J$1 -> 16.899504 | E13: 7500 | F13: =E13/$J$2 -> 17.13111 | G13: =F13-D13 -> 0.23160581 | H13: =G13/D13 -> 0.013704888
A14: 600 | B14: Supplies | C14: 800 | D14: =C14/$J$1 -> 1.8026138 | E14: 800 | F14: =E14/$J$2 -> 1.8273184 | G14: =F14-D14 -> 0.02470462 | H14: =G14/D14 -> 0.013704888
A15: 800 | B15: Other | C15: 2120 | D15: =C15/$J$1 -> 4.7769265 | E15: 2120 | F15: =E15/$J$2 -> 4.8423938 | G15: =F15-D15 -> 0.065467244 | H15: =G15/D15 -> 0.013704888
A16: 910 | B16: Cocurricular Activities Total | C16: =SUM(C11:C15) -> 39054 | D16: =C16/$J$1 -> 87.999099 | E16: =SUM(E11:E15) -> 39054 | F16: =E16/$J$2 -> 89.205116 | G16: =F16-D16 -> 1.2060178 | H16: =G16/D16 -> 0.013704888
A18: 920 | B18: Athletics
A19: 100 | B19: Salaries | C19: 63293 | D19: =C19/$J$1 -> 142.61604 | E19: 63293 | F19: =E19/$J$2 -> 144.57058 | G19: =F19-D19 -> 1.9545369 | H19: =G19/D19 -> 0.013704888
A20: 200 | B20: Benefits | C20: 5791 | D20: =C20/$J$1 -> 13.048671 | E20: 5791 | F20: =E20/$J$2 -> 13.227501 | G20: =F20-D20 -> 0.17883057 | H20: =G20/D20 -> 0.013704888
A21: 500 | B21: Purchase Services | C21: 29200 | D21: =C21/$J$1 -> 65.795403 | E21: 32000 | F21: =E21/$J$2 -> 73.092736 | G21: =F21-D21 -> 7.2973331 | H21: =G21/D21 -> 0.11090947
A22: 600 | B22: Supplies | C22: 29500 | D22: =C22/$J$1 -> 66.471384 | E22: 30000 | F22: =E22/$J$2 -> 68.52444 | G22: =F22-D22 -> 2.0530569 | H22: =G22/D22 -> 0.030886327
A23: 800 | B23: Other | C23: 3800 | D23: =C23/$J$1 -> 8.5624155 | E23: 3800 | F23: =E23/$J$2 -> 8.6797624 | G23: =F23-D23 -> 0.11734695 | H23: =G23/D23 -> 0.013704888
A24: 920 | B24: Athletics Total | C24: =SUM(C19:C23) -> 131584 | D24: =C24/$J$1 -> 296.49392 | E24: =SUM(E19:E23) -> 134884 | F24: =E24/$J$2 -> 308.09502 | G24: =F24-D24 -> 11.601104 | H24: =G24/D24 -> 0.03912763
A26: 2100 | B26: Student Support
A27: 100 | B27: Salaries | C27: 126984 | D27: =C27/$J$1 -> 286.12889 | E27: 131762 | F27: =E27/$J$2 -> 300.96391 | G27: =F27-D27 -> 14.835024 | H27: =G27/D27 -> 0.051847347
A28: 200 | B28: Benefits | C28: 59811 | D28: =C28/$J$1 -> 134.77017 | E28: 65088 | F28: =E28/$J$2 -> 148.67063 | G28: =F28-D28 -> 13.900459 | H28: =G28/D28 -> 0.10314196
A29: 500 | B29: Purchase Services | C29: 10500 | D29: =C29/$J$1 -> 23.659306 | E29: 10250 | F29: =E29/$J$2 -> 23.412517 | G29: =F29-D29 -> -0.24678886 | H29: =G29/D29 -> -0.010430943
A30: 600 | B30: Supplies | C30: 4500 | D30: =C30/$J$1 -> 10.139703 | E30: 4500 | F30: =E30/$J$2 -> 10.278666 | G30: =F30-D30 -> 0.13896349 | H30: =G30/D30 -> 0.013704888
A31: 2100 | B31: Student Support Total | C31: =SUM(C27:C30) -> 201795 | D31: =C31/$J$1 -> 454.69806 | E31: =SUM(E27:E30) -> 211600 | F31: =E31/$J$2 -> 483.32572 | G31: =F31-D31 -> 28.627657 | H31: =G31/D31 -> 0.062959708
A33: 2200 | B33: Instructional Staff Support
A34: 100 | B34: Salaries | C34: 70093 | D34: =C34/$J$1 -> 157.93826 | E34: 71265 | F34: =E34/$J$2 -> 162.77981 | G34: =F34-D34 -> 4.8415477 | H34: =G34/D34 -> 0.030654685
A35: 200 | B35: Benefits | C35: 40916 | D35: =C35/$J$1 -> 92.194682 | E35: 44282 | F35: =E35/$J$2 -> 101.14664 | G35: =F35-D35 -> 8.95196 | H35: =G35/D35 -> 0.097098442
A36: 500 | B36: Purchase Services | C36: 100 | D36: =C36/$J$1 -> 0.22532672 | E36: 100 | F36: =E36/$J$2 -> 0.2284148 | G36: =F36-D36 -> 0.0030880775 | H36: =G36/D36 -> 0.013704888
A37: 600 | B37: Supplies | C37: 10822 | D37: =C37/$J$1 -> 24.384858 | E37: 9372 | F37: =E37/$J$2 -> 21.407035 | G37: =F37-D37 -> -2.9778229 | H37: =G37/D37 -> -0.1221177
A38: 2200 | B38: Instructional Staff Support Total | C38: =SUM(C34:C37) -> 121931 | D38: =C38/$J$1 -> 274.74313 | E38: =SUM(E34:E37) -> 125019 | F38: =E38/$J$2 -> 285.5619 | G38: =F38-D38 -> 10.818773 | H38: =G38/D38 -> 0.039377774
A40: 2300 | B40: General Admin
A41: 100 | B41: Salaries | C41: 244070 | D41: =C41/$J$1 -> 549.95493 | E41: 248095 | F41: =E41/$J$2 -> 566.6857 | G41: =F41-D41 -> 16.730767 | H41: =G41/D41 -> 0.030422068
A42: 200 | B42: Benefits | C42: 101838 | D42: =C42/$J$1 -> 229.46823 | E42: 108134 | F42: =E42/$J$2 -> 246.99406 | G42: =F42-D42 -> 17.525832 | H42: =G42/D42 -> 0.076375855
A43: 500 | B43: Purchase Services | C43: 154100 | D43: =C43/$J$1 -> 347.22848 | E43: 350800 | F43: =E43/$J$2 -> 801.27912 | G43: =F43-D43 -> 454.05064 | H43: =G43/D43 -> 1.3076423
A44: 600 | B44: Supplies | C44: 7727 | D44: =C44/$J$1 -> 17.410996 | E44: 7327 | F44: =E44/$J$2 -> 16.735952 | G44: =F44-D44 -> -0.67504345 | H44: =G44/D44 -> -0.038771099
A45: 800 | B45: Other | C45: 11000 | D45: =C45/$J$1 -> 24.78594 | E45: 14000 | F45: =E45/$J$2 -> 31.978072 | G45: =F45-D45 -> 7.1921326 | H45: =G45/D45 -> 0.29016986
...

Sheet Pershing Revenue
B1: Local Revenue | C1: 18-19 | E1: 19-20 | G1: Difference | H1: % difference | J1: 660.07 | K1: BSG | L1: 9271
A2: 1110 | B2: Property Tax | C2: 1953729 | D2: =C2/$J$1 -> 2959.8815 | E2: 2005442 | F2: =E2/$J$2 -> 3065.4876 | G2: =F2-D2 -> 105.60609 | H2: =G2/D2 -> 0.035679161 | J2: 654.2
A3: 1120 | B3: School Support Tax | C3: 739755 | D3: =C3/$J$1 -> 1120.722 | E3: 730319 | F3: =E3/$J$2 -> 1116.3543 | G3: =F3-D3 -> -4.3677187 | H3: =G3/D3 -> -0.0038972364
A4: 1191 | B4: Franchise Tax | C4: 26000 | D4: =C4/$J$1 -> 39.389762 | E4: 10000 | F4: =E4/$J$2 -> 15.285845 | G4: =F4-D4 -> -24.103916 | H4: =G4/D4 -> -0.61193354
A5: 1192 | B5: Governmental Services Tax | C5: 624385 | D5: =C5/$J$1 -> 945.93755 | E5: 622653 | F5: =E5/$J$2 -> 951.77774 | G5: =F5-D5 -> 5.8401917 | H5: =G5/D5 -> 0.0061739718
A6: 1500 | B6: Earnings on Investments | C6: 25000 | D6: =C6/$J$1 -> 37.874771 | E6: 20000 | F6: =E6/$J$2 -> 30.571691 | G6: =F6-D6 -> -7.3030802 | H6: =G6/D6 -> -0.19282177
A7: 1900 | B7: Other Revenues | C7: 1500 | D7: =C7/$J$1 -> 2.2724863 | E7: 0 | F7: =E7/$J$2 -> 0 | G7: =F7-D7 -> -2.2724863 | H7: =G7/D7 -> -1
A8: 1920 | B8: Donations | C8: 9300 | D8: =C8/$J$1 -> 14.089415 | E8: 0 | F8: =E8/$J$2 -> 0 | G8: =F8-D8 -> -14.089415 | H8: =G8/D8 -> -1
B9: Local Total | C9: =SUM(C2:C8) -> 3379669 | D9: =C9/$J$1 -> 5120.1676 | E9: =SUM(E2:E8) -> 3388414 | F9: =E9/$J$2 -> 5179.4772 | G9: =F9-D9 -> 59.309666 | H9: =G9/D9 -> 0.01158354
B11: State Revenue
A12: 3110 | B12: Distributive School Account | C12: 4591608 | D12: =C12/$J$1 -> 6956.244 | E12: 4699563 | F12: =E12/$J$2 -> 7183.6793 | G12: =F12-D12 -> 227.43527 | H12: =G12/D12 -> 0.032695125
B13: State Total | C13: =SUM(C12:C12) -> 4591608 | D13: =C13/$J$1 -> 6956.244 | E13: =SUM(E12:E12) -> 4699563 | F13: =E13/$J$2 -> 7183.6793 | G13: =F13-D13 -> 227.43527 | H13: =G13/D13 -> 0.032695125
B15: Federal Revenue
A16: 4100 | B16: Unrestricted - Direct | C16: 157808 | D16: =C16/$J$1 -> 239.07767 | E16: 120000 | F16: =E16/$J$2 -> 183.43014 | G16: =F16-D16 -> -55.64753 | H16: =G16/D16 -> -0.23275921
B17: Federal Total | C17: =SUM(C16:C16) -> 157808 | D17: =C17/$J$1 -> 239.07767 | E17: =SUM(E16:E16) -> 120000 | F17: =E17/$J$2 -> 183.43014 | G17: =F17-D17 -> -55.64753 | H17: =G17/D17 -> -0.23275921
B19: Opening Fund Balance Revenue
B20: Opening Balance (other) | C20: 2816758 | D20: =C20/$J$1 -> 4267.3626 | E20: 2490582 | F20: =E20/$J$2 -> 3807.0651 | G20: =F20-D20 -> -460.29743 | H20: =G20/D20 -> -0.10786462
B21: Opening Fund Balance Total | C21: =SUM(C20:C20) -> 2816758 | D21: =C21/$J$1 -> 4267.3626 | E21: =SUM(E20:E20) -> 2490582 | F21: =E21/$J$2 -> 3807.0651 | G21: =F21-D21 -> -460.29743 | H21: =G21/D21 -> -0.10786462
B23: Total Resources | C23: 10945843 | D23: =C23/$J$1 -> 16582.852 | E23: 10698559 | F23: =E23/$J$2 -> 16353.652 | G23: =F23-D23 -> -229.20003 | H23: =G23/D23 -> -0.013821509
A25: Class Size Reduction
A26: 3230 | B26: Class Size Reduction | C26: 232159 | D26: =C26/$J$1 -> 351.71876 | E26: 232159 | F26: =E26/$J$2 -> 354.87466 | G26: =F26-D26 -> 3.155899 | H26: =G26/D26 -> 0.0089727912
A27: 3000 | B27: State Total | C27: =C26 -> 232159 | D27: =C27/$J$1 -> 351.71876 | E27: =E26 -> 232159 | F27: =E27/$J$2 -> 354.87466 | G27: =F27-D27 -> 3.155899 | H27: =G27/D27 -> 0.0089727912
B28: Total Resources | C28: =C27 -> 232159 | D28: =C28/$J$1 -> 351.71876 | E28: =E27 -> 232159 | F28: =E28/$J$2 -> 354.87466 | G28: =F28-D28 -> 3.155899 | H28: =G28/D28 -> 0.0089727912
A30: Adult Education
A31: 3220 | B31: Adult High School Diploma | C31: 1142957 | D31: =C31/$J$1 -> 1731.5694 | E31: 109694 | F31: =E31/$J$2 -> 167.67655 | G31: =F31-D31 -> -1563.8928 | H31: =G31/D31 -> -0.90316498
A32: 3000 | B32: State Total | C32: =C31 -> 1142957 | D32: =C32/$J$1 -> 1731.5694 | E32: =E31 -> 109694 | F32: =E32/$J$2 -> 167.67655 | G32: =F32-D32 -> -1563.8928 | H32: =G32/D32 -> -0.90316498
B33: Total Resources | C33: =C32 -> 1142957 | D33: =C33/$J$1 -> 1731.5694 | E33: =E32 -> 109694 | F33: =E33/$J$2 -> 167.67655 | G33: =F33-D33 -> -1563.8928 | H33: =G33/D33 -> -0.90316498
A35: State Grant Fund
A36: 3110 | B36: DSA | C36: 50000 | D36: =C36/$J$1 -> 75.749542 | E36: 50000 | F36: =E36/$J$2 -> 76.429227 | G36: =F36-D36 -> 0.67968482 | H36: =G36/D36 -> 0.0089727912
A37: 3115 | B37: Special Education - DSA | C37: 26961 | D37: =C37/$J$1 -> 40.845668 | E37: 26961 | F37: =E37/$J$2 -> 41.212168 | G37: =F37-D37 -> 0.36649965 | H37: =G37/D37 -> 0.0089727912
A38: 3200 | B38: Restricted Funding | C38: 296072 | D38: =C38/$J$1 -> 448.54637 | E38: 190575 | F38: =E38/$J$2 -> 291.31 | G38: =F38-D38 -> -157.23637 | H38: =G38/D38 -> -0.35054652
A39: 3000 | B39: State Total | C39: =SUM(C36:C38) -> 373033 | D39: =C39/$J$1 -> 565.14158 | E39: =SUM(E36:E38) -> 267536 | F39: =E39/$J$2 -> 408.95139 | G39: =F39-D39 -> -156.19018 | H39: =G39/D39 -> -0.27637355
B40: Total Resources | C40: =C39 -> 373033 | D40: =C40/$J$1 -> 565.14158 | E40: =E39 -> 267536 | F40: =E40/$J$2 -> 408.95139 | G40: =F40-D40 -> -156.19018 | H40: =G40/D40 -> -0.27637355
A42: Special Education
A43: 3110 | B43: DSA | C43: 783595 | D43: =C43/$J$1 -> 1187.1392 | E43: 783595 | F43: =E43/$J$2 -> 1197.7912 | G43: =F43-D43 -> 10.651953 | H43: =G43/D43 -> 0.0089727912
A44: 3000 | B44: State Total | C44: =C43 -> 783595 | D44: =C44/$J$1 -> 1187.1392 | E44: =E43 -> 783595 | F44: =E44/$J$2 -> 1197.7912 | G44: =F44-D44 -> 10.651953 | H44: =G44/D44 -> 0.0089727912
A45: 5200 | B45: Transfer from Other Funds | C45: 536548 | D45: =C45/$J$1 -> 812.8653 | E45: 602580 | F45: =E45/$J$2 -> 921.09447 | G45: =F45-D45 -> 108.22916 | H45: =G45/D45 -> 0.13314526
B46: Total Resources | C46: 1338330 | D46: =C46/$J$1 -> 2027.5577 | E46: 1386175 | F46: =E46/$J$2 -> 2118.8857 | G46: =F46-D46 -> 91.327979 | H46: =G46/D46 -> 0.045043344
A48: Federal Grants
A49: 4100 | B49: Unrestricted - Direct Fed Gov't | C49: 23410 | D49: =C49/$J$1 -> 35.465935 | E49: 0 | F49: =E49/$J$2 -> 0 | G49: =F49-D49 -> -35.465935 | H49: =G49/D49 -> -1
...

Sheet Pershing Expenses
A1: 100 | B1: Regular Programs | C1: 18-19 | D1: 18-19 Per Pupil | E1: 19-20 | F1: 19-20 Per Pupil | G1: Differences | H1: % Difference | J1: 660.07
B2: Instruction | J2: 654.2
A3: 100 | B3: Salaries | C3: 2294427 | D3: =C3/$J$1 -> 3476.0359 | E3: 2632900 | F3: =E3/$J$2 -> 4024.6102 | G3: =F3-D3 -> 548.57434 | H3: =G3/D3 -> 0.15781607
A4: 200 | B4: Benefits | C4: 1065098 | D4: =C4/$J$1 -> 1613.6137 | E4: 1259080 | F4: =E4/$J$2 -> 1924.6102 | G4: =F4-D4 -> 310.9965 | H4: =G4/D4 -> 0.19273293
A5: 500 | B5: Purchase Services | C5: 50280 | D5: =C5/$J$1 -> 76.173739 | E5: 89500 | F5: =E5/$J$2 -> 136.80832 | G5: =F5-D5 -> 60.634576 | H5: =G5/D5 -> 0.79600368
A6: 600 | B6: Supplies | C6: 160427 | D6: =C6/$J$1 -> 243.04543 | E6: 130600 | F6: =E6/$J$2 -> 199.63314 | G6: =F6-D6 -> -43.412295 | H6: =G6/D6 -> -0.17861802
A7: 900 | B7: Other | C7: 1588 | D7: =C7/$J$1 -> 2.4058054 | E7: 5500 | F7: =E7/$J$2 -> 8.4072149 | G7: =F7-D7 -> 6.0014095 | H7: =G7/D7 -> 2.4945531
A8: 100 | B8: Regular Programs Total | C8: =SUM(C3:C7) -> 3571820 | D8: =C8/$J$1 -> 5411.2746 | E8: =SUM(E3:E7) -> 4117580 | F8: =E8/$J$2 -> 6294.0691 | G8: =F8-D8 -> 882.79453 | H8: =G8/D8 -> 0.16313985
A10: 300 | B10: Vocational & Technical
A11: 100 | B11: Salaries | C11: 77000 | D11: =C11/$J$1 -> 116.65429 | E11: 168000 | F11: =E11/$J$2 -> 256.8022 | G11: =F11-D11 -> 140.14791 | H11: =G11/D11 -> 1.2013952
A12: 200 | B12: Benefits | C12: 32000 | D12: =C12/$J$1 -> 48.479707 | E12: 72900 | F12: =E12/$J$2 -> 111.43381 | G12: =F12-D12 -> 62.954106 | H12: =G12/D12 -> 1.2985661
A13: 600 | B13: Supplies | C13: 1800 | D13: =C13/$J$1 -> 2.7269835 | E13: 5800 | F13: =E13/$J$2 -> 8.8657903 | G13: =F13-D13 -> 6.1388068 | H13: =G13/D13 -> 2.2511345
A14: 300 | B14: Vocational & Technical Total | C14: =SUM(C11:C13) -> 110800 | D14: =C14/$J$1 -> 167.86098 | E14: =SUM(E11:E13) -> 246700 | F14: =E14/$J$2 -> 377.1018 | G14: =F14-D14 -> 209.24082 | H14: =G14/D14 -> 1.2465125
A16: 920 | B16: Athletic
A17: 100 | B17: Salaries | C17: 100865 | D17: =C17/$J$1 -> 152.80955 | E17: 106200 | F17: =E17/$J$2 -> 162.33568 | G17: =F17-D17 -> 9.5261267 | H17: =G17/D17 -> 0.062339864
A18: 200 | B18: Benefits | C18: 3273 | D18: =C18/$J$1 -> 4.958565 | E18: 5250 | F18: =E18/$J$2 -> 8.0250688 | G18: =F18-D18 -> 3.0665038 | H18: =G18/D18 -> 0.61842565
A19: 500 | B19: Purchase Services | C19: 43356 | D19: =C19/$J$1 -> 65.683943 | E19: 53300 | F19: =E19/$J$2 -> 81.473555 | G19: =F19-D19 -> 15.789613 | H19: =G19/D19 -> 0.24038771
A20: 600 | B20: Supplies | C20: 7033 | D20: =C20/$J$1 -> 10.654931 | E20: 5000 | F20: =E20/$J$2 -> 7.6429227 | G20: =F20-D20 -> -3.0120079 | H20: =G20/D20 -> -0.28268677
A21: 900 | B21: Misc | C21: 11027 | D21: =C21/$J$1 -> 16.705804 | E21: 10000 | F21: =E21/$J$2 -> 15.285845 | G21: =F21-D21 -> -1.4199586 | H21: =G21/D21 -> -0.084997922
B22: Community Service | D22: =C22/$J$1 -> 0 | F22: =E22/$J$2 -> 0 | G22: =F22-D22 -> 0 | H22: =G22/D22 -> #DIV/0!
A23: 800 | B23: Other | C23: 0 | D23: =C23/$J$1 -> 0 | E23: 7500 | F23: =E23/$J$2 -> 11.464384 | G23: =F23-D23 -> 11.464384 | H23: =G23/D23 -> #DIV/0!
B24: Transportation | D24: =C24/$J$1 -> 0 | F24: =E24/$J$2 -> 0 | G24: =F24-D24 -> 0 | H24: =G24/D24 -> #DIV/0!
A25: 500 | B25: Purchase Services | C25: 0 | D25: =C25/$J$1 -> 0 | E25: 5500 | F25: =E25/$J$2 -> 8.4072149 | G25: =F25-D25 -> 8.4072149 | H25: =G25/D25 -> #DIV/0!
A26: 920 | B26: Athletic Total | C26: =SUM(C17:C25) -> 165554 | D26: =C26/$J$1 -> 250.81279 | E26: =SUM(E17:E25) -> 192750 | F26: =E26/$J$2 -> 294.63467 | G26: =F26-D26 -> 43.821876 | H26: =G26/D26 -> 0.17471946
A28: 2100 | B28: Support Services - Nurses
A29: 100 | B29: Salaries | C29: 50083 | D29: =C29/$J$1 -> 75.875286 | E29: 51500 | F29: =E29/$J$2 -> 78.722103 | G29: =F29-D29 -> 2.8468174 | H29: =G29/D29 -> 0.037519692
A30: 200 | B30: Benefits | C30: 24475 | D30: =C30/$J$1 -> 37.079401 | E30: 31150 | F30: =E30/$J$2 -> 47.615408 | G30: =F30-D30 -> 10.536007 | H30: =G30/D30 -> 0.28414719
A31: 500 | B31: Purchase Services | C31: 2388 | D31: =C31/$J$1 -> 3.6177981 | E31: 2600 | F31: =E31/$J$2 -> 3.9743198 | G31: =F31-D31 -> 0.35652167 | H31: =G31/D31 -> 0.09854659
A32: 600 | B32: Supplies | C32: 2975 | D32: =C32/$J$1 -> 4.5070977 | E32: 2750 | F32: =E32/$J$2 -> 4.2036075 | G32: =F32-D32 -> -0.30349027 | H32: =G32/D32 -> -0.067336075
A33: 900 | B33: Misc. | C33: 0 | D33: =C33/$J$1 -> 0 | E33: 20 | F33: =E33/$J$2 -> 0.030571691 | G33: =F33-D33 -> 0.030571691 | H33: =G33/D33 -> #DIV/0!
A34: 2100 | B34: Support Services - Nurses Total | C34: =SUM(C29:C33) -> 79921 | D34: =C34/$J$1 -> 121.07958 | E34: =SUM(E29:E33) -> 88020 | F34: =E34/$J$2 -> 134.54601 | G34: =F34-D34 -> 13.466428 | H34: =G34/D34 -> 0.11121964
A36: 2300 | B36: General Admin
A37: 100 | B37: Salaries | C37: 141200 | D37: =C37/$J$1 -> 213.91671 | E37: 160000 | F37: =E37/$J$2 -> 244.57352 | G37: =F37-D37 -> 30.656819 | H37: =G37/D37 -> 0.14331194
A38: 200 | B38: Benefits | C38: 58500 | D38: =C38/$J$1 -> 88.626964 | E38: 65300 | F38: =E38/$J$2 -> 99.81657 | G38: =F38-D38 -> 11.189606 | H38: =G38/D38 -> 0.1262551
A39: 500 | B39: Purchase Services | C39: 24425 | D39: =C39/$J$1 -> 37.003651 | E39: 26500 | F39: =E39/$J$2 -> 40.50749 | G39: =F39-D39 -> 3.5038389 | H39: =G39/D39 -> 0.094689006
A40: 600 | B40: Supplies | C40: 7780 | D40: =C40/$J$1 -> 11.786629 | E40: 8200 | F40: =E40/$J$2 -> 12.534393 | G40: =F40-D40 -> 0.74776446 | H40: =G40/D40 -> 0.063441759
A41: 900 | B41: Misc | C41: 11000 | D41: =C41/$J$1 -> 16.664899 | E41: 13000 | F41: =E41/$J$2 -> 19.871599 | G41: =F41-D41 -> 3.2066997 | H41: =G41/D41 -> 0.19242239
A42: 2300 | B42: General Admin | C42: =SUM(C37:C41) -> 242905 | D42: =C42/$J$1 -> 367.99885 | E42: =SUM(E37:E41) -> 273000 | F42: =E42/$J$2 -> 417.30358 | G42: =F42-D42 -> 49.304728 | H42: =G42/D42 -> 0.13398066
D43: =C43/$J$1 -> 0 | F43: =E43/$J$2 -> 0 | G43: =F43-D43 -> 0 | H43: =G43/D43 -> #DIV/0!
A44: 2400 | B44: School Admin | D44: =C44/$J$1 -> 0 | F44: =E44/$J$2 -> 0 | G44: =F44-D44 -> 0 | H44: =G44/D44 -> #DIV/0!
...

Sheet Nye Revenue
B1: Local Revenue | C1: 18-19 | D1: 18-19 Per Pupil | E1: 19-20 | F1: 19-20 Per Pupil | G1: Difference | H1: % difference | J1: 5153.28 | K1: BSG | L1: 7850
A2: 1110 | B2: Property Tax | C2: 9348578 | D2: =C2/$J$1 -> 1814.1025 | E2: 10778434 | F2: =E2/$J$2 -> 2064.0038 | G2: =F2-D2 -> 249.90128 | H2: =G2/D2 -> 0.13775478 | J2: 5222.1
A3: 1120 | B3: School Support Tax | C3: 10218538 | D3: =C3/$J$1 -> 1982.9192 | E3: 11230205 | F3: =E3/$J$2 -> 2150.5151 | G3: =F3-D3 -> 167.59589 | H3: =G3/D3 -> 0.084519777
A4: 1192 | B4: Governmental Services Tax | C4: 1700899 | D4: =C4/$J$1 -> 330.06144 | E4: 1974481 | F4: =E4/$J$2 -> 378.10096 | G4: =F4-D4 -> 48.039519 | H4: =G4/D4 -> 0.1455472
A5: 1500 | B5: Earnings on Investments | C5: 80000 | D5: =C5/$J$1 -> 15.524093 | E5: 100000 | F5: =E5/$J$2 -> 19.149384 | G5: =F5-D5 -> 3.625291 | H5: =G5/D5 -> 0.23352674
A6: 1990 | B6: Misc. | C6: 100000 | D6: =C6/$J$1 -> 19.405117 | E6: 100000 | F6: =E6/$J$2 -> 19.149384 | G6: =F6-D6 -> -0.25573239 | H6: =G6/D6 -> -0.013178606
B7: Local Total | C7: =SUM(C2:C6) -> 21448015 | D7: =C7/$J$1 -> 4162.0123 | E7: =SUM(E2:E6) -> 24183120 | F7: =E7/$J$2 -> 4630.9186 | G7: =F7-D7 -> 468.90625 | H7: =G7/D7 -> 0.11266335
B9: State Revenue
A10: 3110 | B10: Distributive School Account | C10: 28994328 | D10: =C10/$J$1 -> 5626.3832 | E10: 26170469 | F10: =E10/$J$2 -> 5011.4837 | G10: =F10-D10 -> -614.8995 | H10: =G10/D10 -> -0.10928859
B11: State Total | C11: =SUM(C10:C10) -> 28994328 | D11: =C11/$J$1 -> 5626.3832 | E11: =SUM(E10:E10) -> 26170469 | F11: =E11/$J$2 -> 5011.4837 | G11: =F11-D11 -> -614.8995 | H11: =G11/D11 -> -0.10928859
B13: Federal Revenue
A14: 4300 | B14: Restricted - Direct | C14: 67000 | D14: =C14/$J$1 -> 13.001428 | E14: 72220 | F14: =E14/$J$2 -> 13.829685 | G14: =F14-D14 -> 0.82825716 | H14: =G14/D14 -> 0.06370509
B15: Federal Total | C15: =SUM(C14:C14) -> 67000 | D15: =C15/$J$1 -> 13.001428 | E15: =SUM(E14:E14) -> 72220 | F15: =E15/$J$2 -> 13.829685 | G15: =F15-D15 -> 0.82825716 | H15: =G15/D15 -> 0.06370509
B17: Opening Fund Balance Revenue
B18: Opening Balance (other) | C18: 16162754 | D18: =C18/$J$1 -> 3136.4013 | E18: 10879832 | F18: =E18/$J$2 -> 2083.4208 | G18: =F18-D18 -> -1052.9804 | H18: =G18/D18 -> -0.33572886
B19: Opening Fund Balance Total | C19: =SUM(C18:C18) -> 16162754 | D19: =C19/$J$1 -> 3136.4013 | E19: =SUM(E18:E18) -> 10879832 | F19: =E19/$J$2 -> 2083.4208 | G19: =F19-D19 -> -1052.9804 | H19: =G19/D19 -> -0.33572886
B21: Total Resources | C21: 66672097 | D21: =C21/$J$1 -> 12937.798 | E21: 61233421 | F21: =E21/$J$2 -> 11725.823 | G21: =F21-D21 -> -1211.9751 | H21: =G21/D21 -> -0.093677077
A23: Class Size Reduction
A24: 3230 | B24: Class Size Reduction | C24: 1138143 | D24: =C24/$J$1 -> 220.85798 | E24: 845512 | F24: =E24/$J$2 -> 161.91034 | G24: =F24-D24 -> -58.947635 | H24: =G24/D24 -> -0.2669029
A25: 3000 | B25: State Total | C25: =C24 -> 1138143 | D25: =C25/$J$1 -> 220.85798 | E25: =E24 -> 845512 | F25: =E25/$J$2 -> 161.91034 | G25: =F25-D25 -> -58.947635 | H25: =G25/D25 -> -0.2669029
B26: Total Resources | C26: =C25 -> 1138143 | D26: =C26/$J$1 -> 220.85798 | E26: =E25 -> 845512 | F26: =E26/$J$2 -> 161.91034 | G26: =F26-D26 -> -58.947635 | H26: =G26/D26 -> -0.2669029
A28: Adult Education
A29: 3220 | B29: Adult High School Diploma | C29: 253942 | D29: =C29/$J$1 -> 49.277742 | E29: 0 | F29: =E29/$J$2 -> 0 | G29: =F29-D29 -> -49.277742 | H29: =G29/D29 -> -1
A30: 3000 | B30: State Total | C30: =C29 -> 253942 | D30: =C30/$J$1 -> 49.277742 | E30: =E29 -> 0 | F30: =E30/$J$2 -> 0 | G30: =F30-D30 -> -49.277742 | H30: =G30/D30 -> -1
A32: State Funds
A33: 3200 | B33: Restricted Funds | C33: 3190759 | D33: =C33/$J$1 -> 619.17051 | E33: 50000 | F33: =E33/$J$2 -> 9.5746922 | G33: =F33-D33 -> -609.59582 | H33: =G33/D33 -> -0.98453626
A34: 3000 | B34: State Total | C34: =C33 -> 3190759 | D34: =C34/$J$1 -> 619.17051 | E34: =E33 -> 50000 | F34: =E34/$J$2 -> 9.5746922 | G34: =F34-D34 -> -609.59582 | H34: =G34/D34 -> -0.98453626
B35: Total Resources | C35: =C34 -> 3190759 | D35: =C35/$J$1 -> 619.17051 | E35: =E34 -> 50000 | F35: =E35/$J$2 -> 9.5746922 | G35: =F35-D35 -> -609.59582 | H35: =G35/D35 -> -0.98453626
A37: Special Education
A38: 3115 | B38: Special Education - DSA Funding | C38: 3124472 | D38: =C38/$J$1 -> 606.30744 | E38: 2995796 | F38: =E38/$J$2 -> 573.67649 | G38: =F38-D38 -> -32.630949 | H38: =G38/D38 -> -0.053819146
A39: 3000 | B39: State Total | C39: =C38 -> 3124472 | D39: =C39/$J$1 -> 606.30744 | E39: =E38 -> 2995796 | F39: =E39/$J$2 -> 573.67649 | G39: =F39-D39 -> -32.630949 | H39: =G39/D39 -> -0.053819146
A40: 5200 | B40: Transfer from Other Funds | C40: 8619907 | D40: =C40/$J$1 -> 1672.703 | E40: 9219979 | F40: =E40/$J$2 -> 1765.5692 | G40: =F40-D40 -> 92.866199 | H40: =G40/D40 -> 0.055518642
